BEGIN:VCALENDAR
VERSION:2.0
PRODID:-//Sabre//Sabre VObject 4.5.8//EN
CALSCALE:GREGORIAN
BEGIN:VEVENT
UID:criticalmass-one-mannheim-1726918200
DTSTAMP:20260423T224203Z
SUMMARY:Kidical Mass
DESCRIPTION:Mehr Platz fürs Rad! Für sichere Radwege!\n\nDurch die Innens
 tadt zum Kinderspektakel im Herzogenriedpark.\n\nSei dabei.
DTSTART;TZID=Europe/Berlin:20240921T133000
DTEND;TZID=Europe/Berlin:20240921T153000
LOCATION:Wasserturm
GEO:49.483921;8.475866
URL;VALUE=URI:https://criticalmass.in/mannheim/2024-09-21
END:VEVENT
END:VCALENDAR
