BEGIN:VCALENDAR
VERSION:2.0
PRODID:-//Sabre//Sabre VObject 4.5.8//EN
CALSCALE:GREGORIAN
BEGIN:VEVENT
UID:criticalmass-one-mannheim-1721407500
DTSTAMP:20260422T225928Z
SUMMARY:Critical Mass Mannheim 19.07.2024
DTSTART;TZID=Europe/Berlin:20240719T184500
DTEND;TZID=Europe/Berlin:20240719T204500
LOCATION:Wasserturm Mannheim
GEO:49.484130;8.475351
URL;VALUE=URI:https://criticalmass.in/mannheim/2024-07-19
END:VEVENT
END:VCALENDAR
