BEGIN:VCALENDAR
VERSION:2.0
PRODID:-//Sabre//Sabre VObject 4.5.8//EN
CALSCALE:GREGORIAN
BEGIN:VEVENT
UID:criticalmass-one-mannheim-1719673200
DTSTAMP:20260423T064924Z
SUMMARY:Radparade Monnem Bike
DESCRIPTION:Unter dem Motto „Radfahren für die Verkehrswende“ startet 
 um 17 Uhr die große Radparade auf dem Marktplatz\, die über Mannheim und
  Ludwigshafen führt und gegen 19 Uhr am Paradeplatz eintrifft. Etwa 500 R
 adfahrer werden laut ADFC und  QuadRadEntscheid Mannheim zu der quirligen 
 Parade erwartet\, die eine gut zweistündige Fahrradtour durch die Quadrat
 e und über die Kurt-Schumacher-Brücke nach Ludwigshafen unternehmen werd
 en.
DTSTART;TZID=Europe/Berlin:20240629T170000
DTEND;TZID=Europe/Berlin:20240629T190000
LOCATION:Mannheim G1 Marktplatz
GEO:49.489473;8.466983
URL;VALUE=URI:https://criticalmass.in/mannheim/2024-06-29
END:VEVENT
END:VCALENDAR
