BEGIN:VCALENDAR
VERSION:2.0
PRODID:-//Sabre//Sabre VObject 4.5.8//EN
CALSCALE:GREGORIAN
BEGIN:VEVENT
UID:criticalmass-one-mannheim-1715790600
DTSTAMP:20260423T143340Z
SUMMARY:Ride of Silence
DESCRIPTION:Der erste Ride of Silence wurde 2003 in Dallas\, Texas begangen
 . Seitdem wird der Ride of Silence jedes Jahr am dritten Mittwoch im Mai a
 bgehalten. Im Jahr 2015 fanden Rides of Silence weltweit in 340 Städten i
 n 20 Ländern statt.\n\nMannheim ist auch dabei. Sei dabei und setzte ein 
 Zeichen gegen Autogewalt\, für Vision Zero und endlich bessere Infrastruk
 tur für schwächere Verkehrsteilneher - auch in der Autostadt Mannheim!\n
 \nDamit Teilnehmer*innen auch später dazustoßen können aktiviert bitte 
 die App CriticalMaps.
DTSTART;TZID=Europe/Berlin:20240515T183000
DTEND;TZID=Europe/Berlin:20240515T203000
LOCATION:Wasserturm Mannheim
GEO:49.484053;8.475609
URL;VALUE=URI:https://criticalmass.in/mannheim/2024-05-15
END:VEVENT
END:VCALENDAR
