BEGIN:VCALENDAR
VERSION:2.0
PRODID:-//Sabre//Sabre VObject 4.5.8//EN
CALSCALE:GREGORIAN
BEGIN:VEVENT
UID:criticalmass-one-mannheim-1714829400
DTSTAMP:20260423T140747Z
SUMMARY:Kidical Mass
DESCRIPTION:2024 gehen wir wieder an den Start und radeln in gewohnter Mani
 er durch Mannheim!\nUnterstützt uns dabei darauf aufmerksam zu machen\, w
 ie wichtig eine kinderfreundliche Infrastruktur für die Verkehrsplanung i
 st.\nDiese Tour wird uns in die Neckarstadt zum Max-Jospeh-Straßenfest f
 ühren\, sie ist auch wieder für unsere kleinsten Mitfahrer*innen auf dem
  Laufrad machbar - die Besenräder helfen euch im Notfall gerne.\nAlso\, r
 adelt mit!
DTSTART;TZID=Europe/Berlin:20240504T153000
DTEND;TZID=Europe/Berlin:20240504T173000
LOCATION:Wasserturm Mannheim
GEO:49.484046;8.475598
URL;VALUE=URI:https://criticalmass.in/mannheim/2024-05-04
END:VEVENT
END:VCALENDAR
