BEGIN:VCALENDAR
VERSION:2.0
PRODID:-//Sabre//Sabre VObject 4.5.8//EN
CALSCALE:GREGORIAN
BEGIN:VEVENT
UID:criticalmass-one-mannheim-1705686300
DTSTAMP:20260423T021356Z
SUMMARY:Critical Mass Mannheim 19.01.2024
DTSTART;TZID=Europe/Berlin:20240119T184500
DTEND;TZID=Europe/Berlin:20240119T204500
LOCATION:Wasserturm Mannheim
GEO:49.484130;8.475351
URL;VALUE=URI:https://criticalmass.in/mannheim/2024-01-19
END:VEVENT
END:VCALENDAR
