BEGIN:VCALENDAR
VERSION:2.0
PRODID:-//Sabre//Sabre VObject 4.5.8//EN
CALSCALE:GREGORIAN
BEGIN:VEVENT
UID:criticalmass-one-mannheim-1702662300
DTSTAMP:20260423T143129Z
SUMMARY:Critical Mass Mannheim
DTSTART;TZID=Europe/Berlin:20231215T184500
DTEND;TZID=Europe/Berlin:20231215T204500
LOCATION:Kunsthalle Mannheim
GEO:49.483081;8.475255
URL;VALUE=URI:https://criticalmass.in/mannheim/2023-12-15
END:VEVENT
END:VCALENDAR
