BEGIN:VCALENDAR
VERSION:2.0
PRODID:-//Sabre//Sabre VObject 4.5.8//EN
CALSCALE:GREGORIAN
BEGIN:VEVENT
UID:criticalmass-one-mannheim-1700243100
DTSTAMP:20260422T163307Z
SUMMARY:Critical Mass Mannheim 17.11.2023
DTSTART;TZID=Europe/Berlin:20231117T184500
DTEND;TZID=Europe/Berlin:20231117T204500
LOCATION:Kunsthalle Mannheim
GEO:49.483074;8.475239
URL;VALUE=URI:https://criticalmass.in/mannheim/2023-11-17
END:VEVENT
END:VCALENDAR
