BEGIN:VCALENDAR
VERSION:2.0
PRODID:-//Sabre//Sabre VObject 4.5.8//EN
CALSCALE:GREGORIAN
BEGIN:VEVENT
UID:criticalmass-one-mannheim-1694796300
DTSTAMP:20260423T060225Z
SUMMARY:Critical Mass Mannheim 15.09.2023
DTSTART;TZID=Europe/Berlin:20230915T184500
DTEND;TZID=Europe/Berlin:20230915T204500
LOCATION:Wasserturm Mannheim
GEO:49.484130;8.475351
URL;VALUE=URI:https://criticalmass.in/mannheim/2023-09-15
END:VEVENT
END:VCALENDAR
