BEGIN:VCALENDAR
VERSION:2.0
PRODID:-//Sabre//Sabre VObject 4.5.8//EN
CALSCALE:GREGORIAN
BEGIN:VEVENT
UID:criticalmass-one-mannheim-1689957900
DTSTAMP:20260424T134639Z
SUMMARY:Critical Mass Mannheim 21.07.2023
DTSTART;TZID=Europe/Berlin:20230721T184500
DTEND;TZID=Europe/Berlin:20230721T204500
LOCATION:Wasserturm Mannheim
GEO:49.484032;8.475587
URL;VALUE=URI:https://criticalmass.in/mannheim/2023-07-21
END:VEVENT
END:VCALENDAR
