BEGIN:VCALENDAR
VERSION:2.0
PRODID:-//Sabre//Sabre VObject 4.5.8//EN
CALSCALE:GREGORIAN
BEGIN:VEVENT
UID:criticalmass-one-mannheim-1686409200
DTSTAMP:20260425T152430Z
SUMMARY:Radparade
DESCRIPTION:Fahrraddemo in Mannheim für mehr Platz fürs Rad\n\nAuch Mannh
 eim und Ludwigshafen haben noch einen weiten Weg vor sich\, um den Anforde
 rungen an einen sicheren Radverkehr gerecht zu werden – dieser Auffassun
 g ist die Fahrradinitiative 2023. Obwohl beide Städte für den Radverkehr
  beste Voraussetzungen haben\, liegen die Kommunen noch immer hinter den A
 nsprüchen an eine zeitgemäße Verkehrswende zurück\, heißt es in einer
  Mitteilung der Initiative. Dies sei auch angesichts des Zeitdrucks durch 
 die Klimakrise bedenklich.\n\nFür diese Forderungen wird am Samstag\, 10.
  Juni\, bei der Radparade auf einer rund 20 Kilometer langen Tour durch Lu
 dwigshafen und Mannheim demonstriert. Start ist um 17.00 Uhr am Marktplatz
  in G1. Dort wird das Posaunenensemble der Musikschule Mannheim\, die Heav
 y Bones\, die Radparade in Stimmung bringen.\n\nAuch dieses Jahr rollt die
  Raddemo wieder am gleichen Tag wie Monnem Bike und Spielraum Stadt in der
  City. Am Ende landet die Tour gegen 19 Uhr am Paradeplatz bei Monnem Bike
 .
DTSTART;TZID=Europe/Berlin:20230610T170000
DTEND;TZID=Europe/Berlin:20230610T190000
LOCATION:Markplatz Mannheim
GEO:49.489511;8.467262
URL;VALUE=URI:https://criticalmass.in/mannheim/2023-06-10
END:VEVENT
END:VCALENDAR
