BEGIN:VCALENDAR
VERSION:2.0
PRODID:-//Sabre//Sabre VObject 4.5.8//EN
CALSCALE:GREGORIAN
BEGIN:VEVENT
UID:criticalmass-one-mannheim-1676655900
DTSTAMP:20260423T185549Z
SUMMARY:Critical Mass Mannheim 17.02.2023
DTSTART;TZID=Europe/Berlin:20230217T184500
DTEND;TZID=Europe/Berlin:20230217T204500
LOCATION:Wasserturm Mannheim
GEO:49.484130;8.475351
URL;VALUE=URI:https://criticalmass.in/mannheim/2023-02-17
END:VEVENT
END:VCALENDAR
