BEGIN:VCALENDAR
VERSION:2.0
PRODID:-//Sabre//Sabre VObject 4.5.8//EN
CALSCALE:GREGORIAN
BEGIN:VEVENT
UID:criticalmass-one-mannheim-1660927500
DTSTAMP:20260422T090453Z
SUMMARY:Critical Mass Mannheim 19.08.2022
DTSTART;TZID=Europe/Berlin:20220819T184500
DTEND;TZID=Europe/Berlin:20220819T204500
LOCATION:Wasserturm Mannheim
GEO:49.484130;8.475351
URL;VALUE=URI:https://criticalmass.in/mannheim/2022-08-19
END:VEVENT
END:VCALENDAR
