BEGIN:VCALENDAR
VERSION:2.0
PRODID:-//Sabre//Sabre VObject 4.5.8//EN
CALSCALE:GREGORIAN
BEGIN:VEVENT
UID:criticalmass-one-mannheim-1655484300
DTSTAMP:20260424T232506Z
SUMMARY:Critical Mass Mannheim 17.06.2022
DTSTART;TZID=Europe/Berlin:20220617T184500
DTEND;TZID=Europe/Berlin:20220617T204500
LOCATION:Wasserturm Mannheim
GEO:49.484130;8.475351
URL;VALUE=URI:https://criticalmass.in/mannheim/2022-06-17
END:VEVENT
END:VCALENDAR
