BEGIN:VCALENDAR
VERSION:2.0
PRODID:-//Sabre//Sabre VObject 4.5.8//EN
CALSCALE:GREGORIAN
BEGIN:VEVENT
UID:criticalmass-one-mannheim-1653065100
DTSTAMP:20260422T103734Z
SUMMARY:Critical Mass Mannheim 20.05.2022
DTSTART;TZID=Europe/Berlin:20220520T184500
DTEND;TZID=Europe/Berlin:20220520T204500
LOCATION:Wasserturm Mannheim
GEO:49.484130;8.475351
URL;VALUE=URI:https://criticalmass.in/mannheim/2022-05-20
END:VEVENT
END:VCALENDAR
