BEGIN:VCALENDAR
VERSION:2.0
PRODID:-//Sabre//Sabre VObject 4.5.8//EN
CALSCALE:GREGORIAN
BEGIN:VEVENT
UID:criticalmass-one-mannheim-1637343900
DTSTAMP:20260423T064904Z
SUMMARY:Critical Mass Mannheim 19.11.2021
DTSTART;TZID=Europe/Berlin:20211119T184500
DTEND;TZID=Europe/Berlin:20211119T204500
LOCATION:Wasserturm Mannheim
GEO:49.484130;8.475351
URL;VALUE=URI:https://criticalmass.in/mannheim/2021-11-19
END:VEVENT
END:VCALENDAR
