BEGIN:VCALENDAR
VERSION:2.0
PRODID:-//Sabre//Sabre VObject 4.5.8//EN
CALSCALE:GREGORIAN
BEGIN:VEVENT
UID:criticalmass-one-mannheim-1629477900
DTSTAMP:20260423T064831Z
SUMMARY:Critical Mass Mannheim 20.08.2021
DTSTART;TZID=Europe/Berlin:20210820T184500
DTEND;TZID=Europe/Berlin:20210820T204500
LOCATION:Wasserturm Mannheim
GEO:49.484130;8.475351
URL;VALUE=URI:https://criticalmass.in/mannheim/2021-08-20
END:VEVENT
END:VCALENDAR
