BEGIN:VCALENDAR
VERSION:2.0
PRODID:-//Sabre//Sabre VObject 4.5.8//EN
CALSCALE:GREGORIAN
BEGIN:VEVENT
UID:criticalmass-one-mannheim-1613756700
DTSTAMP:20260422T063851Z
SUMMARY:Critical Mass Mannheim 19.02.2021
DTSTART;TZID=Europe/Berlin:20210219T184500
DTEND;TZID=Europe/Berlin:20210219T204500
LOCATION:Wasserturm Mannheim
GEO:49.484130;8.475351
URL;VALUE=URI:https://criticalmass.in/mannheim/2021-02-19
END:VEVENT
END:VCALENDAR
