BEGIN:VCALENDAR
VERSION:2.0
PRODID:-//Sabre//Sabre VObject 4.5.8//EN
CALSCALE:GREGORIAN
BEGIN:VEVENT
UID:criticalmass-one-mannheim-1595004300
DTSTAMP:20260421T172159Z
SUMMARY:Critical Mass Mannheim 17.07.2020
DESCRIPTION:Schönes Wetter\, viele Leute\, musikalische Untermalung\, Poli
 zeieskorte
DTSTART;TZID=Europe/Berlin:20200717T184500
DTEND;TZID=Europe/Berlin:20200717T204500
LOCATION:Wasserturm Mannheim
GEO:49.487977;8.466682
URL;VALUE=URI:https://criticalmass.in/mannheim/2020-07-17
END:VEVENT
END:VCALENDAR
