BEGIN:VCALENDAR
VERSION:2.0
PRODID:-//Sabre//Sabre VObject 4.5.8//EN
CALSCALE:GREGORIAN
BEGIN:VEVENT
UID:criticalmass-one-mannheim-1587141900
DTSTAMP:20260422T154252Z
SUMMARY:- FÄLLT AUS - Critical Mass Mannheim 17.04.2020
DESCRIPTION:Bitte nicht kommen. Ihr wisst schon - Corona und so. #stayhome 
 #flattenthecurve
DTSTART;TZID=Europe/Berlin:20200417T184500
DTEND;TZID=Europe/Berlin:20200417T204500
LOCATION:Wasserturm Mannheim
GEO:49.484130;8.475351
URL;VALUE=URI:https://criticalmass.in/mannheim/2020-04-17
END:VEVENT
END:VCALENDAR
