BEGIN:VCALENDAR
VERSION:2.0
PRODID:-//Sabre//Sabre VObject 4.5.8//EN
CALSCALE:GREGORIAN
BEGIN:VEVENT
UID:criticalmass-one-mannheim-1584726300
DTSTAMP:20260422T075859Z
SUMMARY:Critical Mass Mannheim 20.03.2020 - FÄLLT AUS!
DESCRIPTION:Wie ihr wisst\, ist die CM keine Veranstaltung. In Zeiten des u
 m sich greifenden Corona-Virus können wir die CM im März also auch nicht
  verhindern.\nAus Rücksicht auf euch und eure Mitmenschen empfehlen wir e
 uch jedoch zu Hause zu bleiben. #flattenthecurve #kurveflachhalten Also nu
 tzt die Zeit um euer Rad zu putzen und dann sehen wir uns bald in aller Fr
 ische und Stärke wieder. ?♥
DTSTART;TZID=Europe/Berlin:20200320T184500
DTEND;TZID=Europe/Berlin:20200320T204500
LOCATION:Wasserturm Mannheim
GEO:49.484130;8.475351
URL;VALUE=URI:https://criticalmass.in/mannheim/2020-03-20
END:VEVENT
END:VCALENDAR
