BEGIN:VCALENDAR
VERSION:2.0
PRODID:-//Sabre//Sabre VObject 4.5.8//EN
CALSCALE:GREGORIAN
BEGIN:VEVENT
UID:criticalmass-one-mannheim-1582307100
DTSTAMP:20260421T204646Z
SUMMARY:Critical Mass Mannheim 21.02.2020
DESCRIPTION:Wir treffen uns am Freitag zur Critical Mass auf dem Vorplatz d
 er Kunsthalle\; direkt neben dem üblichen Abfahrtsort. Ab Donnerstag find
 et am Wasserturm nämlich der Fasnachtsmarkt statt. Wer sich besonders nä
 rrisch fühlt\, darf natürlich auch verkleidet mitradeln. ?? Wir freuen u
 ns auf Euch!
DTSTART;TZID=Europe/Berlin:20200221T184500
DTEND;TZID=Europe/Berlin:20200221T204500
LOCATION:Vorplatz Kunsthalle\, neben Wasserturm Mannheim
GEO:49.484130;8.475351
URL;VALUE=URI:https://criticalmass.in/mannheim/2020-02-21
END:VEVENT
END:VCALENDAR
