BEGIN:VCALENDAR
VERSION:2.0
PRODID:-//Sabre//Sabre VObject 4.5.8//EN
CALSCALE:GREGORIAN
BEGIN:VEVENT
UID:criticalmass-one-mannheim-1558111500
DTSTAMP:20260421T141058Z
SUMMARY:Critical Mass Mannheim 17.05.2019
DTSTART;TZID=Europe/Berlin:20190517T184500
DTEND;TZID=Europe/Berlin:20190517T204500
LOCATION:Wasserturm Mannheim
URL;VALUE=URI:https://criticalmass.in/mannheim/2019-05-17
END:VEVENT
END:VCALENDAR
