BEGIN:VCALENDAR
VERSION:2.0
PRODID:-//Sabre//Sabre VObject 4.5.8//EN
CALSCALE:GREGORIAN
BEGIN:VEVENT
UID:criticalmass-one-mannheim-1543672800
DTSTAMP:20260424T155006Z
SUMMARY:Critical Mass Mannheim 01.12.2018
DTSTART;TZID=Europe/Berlin:20181201T150000
DTEND;TZID=Europe/Berlin:20181201T170000
LOCATION:Wasserturm
GEO:49.483952;8.475816
URL;VALUE=URI:https://criticalmass.in/mannheim/2018-12-01
END:VEVENT
END:VCALENDAR
