BEGIN:VCALENDAR
VERSION:2.0
PRODID:-//Sabre//Sabre VObject 4.5.8//EN
CALSCALE:GREGORIAN
BEGIN:VEVENT
UID:criticalmass-one-mannheim-1527944400
DTSTAMP:20260422T172701Z
SUMMARY:Critical Mass Mannheim 02.06.2018
DTSTART;TZID=Europe/Berlin:20180602T150000
DTEND;TZID=Europe/Berlin:20180602T170000
LOCATION:Wasserturm
GEO:49.483952;8.475816
URL;VALUE=URI:https://criticalmass.in/mannheim/2018-06-02
END:VEVENT
END:VCALENDAR
