BEGIN:VCALENDAR
VERSION:2.0
PRODID:-//Sabre//Sabre VObject 4.5.8//EN
CALSCALE:GREGORIAN
BEGIN:VEVENT
UID:criticalmass-one-mannheim-1518802200
DTSTAMP:20260421T222924Z
SUMMARY:Critical Mass Mannheim 16.02.2018
DTSTART;TZID=Europe/Berlin:20180216T183000
DTEND;TZID=Europe/Berlin:20180216T203000
LOCATION:Wasserturm
GEO:49.483952;8.475816
URL;VALUE=URI:https://criticalmass.in/mannheim/2018-02-16
END:VEVENT
END:VCALENDAR
