BEGIN:VCALENDAR
VERSION:2.0
PRODID:-//Sabre//Sabre VObject 4.5.8//EN
CALSCALE:GREGORIAN
BEGIN:VEVENT
UID:criticalmass-one-mannheim-1504357200
DTSTAMP:20260425T233006Z
SUMMARY:Critical Mass Mannheim 02.09.2017
DTSTART;TZID=Europe/Berlin:20170902T150000
DTEND;TZID=Europe/Berlin:20170902T170000
LOCATION:Wasserturm
GEO:49.483952;8.475816
URL;VALUE=URI:https://criticalmass.in/mannheim/2017-09-02
END:VEVENT
END:VCALENDAR
