BEGIN:VCALENDAR
VERSION:2.0
PRODID:-//Sabre//Sabre VObject 4.5.8//EN
CALSCALE:GREGORIAN
BEGIN:VEVENT
UID:criticalmass-one-mannheim-1494075600
DTSTAMP:20260424T004154Z
SUMMARY:Critical Mass Mannheim 06.05.2017
DTSTART;TZID=Europe/Berlin:20170506T150000
DTEND;TZID=Europe/Berlin:20170506T170000
LOCATION:Wasserturm
GEO:49.483952;8.475816
URL;VALUE=URI:https://criticalmass.in/mannheim/2017-05-06
END:VEVENT
END:VCALENDAR
