BEGIN:VCALENDAR
VERSION:2.0
PRODID:-//Sabre//Sabre VObject 4.5.8//EN
CALSCALE:GREGORIAN
BEGIN:VEVENT
UID:criticalmass-one-mannheim-1478343600
DTSTAMP:20260424T154945Z
SUMMARY:Critical Mass Mannheim 05.11.2016
DTSTART;TZID=Europe/Berlin:20161105T120000
DTEND;TZID=Europe/Berlin:20161105T140000
LOCATION:Wasserturm
GEO:49.483952;8.475816
URL;VALUE=URI:https://criticalmass.in/mannheim/2016-11-05
END:VEVENT
END:VCALENDAR
