BEGIN:VCALENDAR
VERSION:2.0
PRODID:-//Sabre//Sabre VObject 4.5.8//EN
CALSCALE:GREGORIAN
BEGIN:VEVENT
UID:criticalmass-one-mannheim-1467464400
DTSTAMP:20260425T173550Z
SUMMARY:Critical Mass Mannheim 02.07.2016
DTSTART;TZID=Europe/Berlin:20160702T150000
DTEND;TZID=Europe/Berlin:20160702T170000
LOCATION:Wasserturm
GEO:49.483952;8.475816
URL;VALUE=URI:https://criticalmass.in/mannheim/2016-07-02
END:VEVENT
END:VCALENDAR
