BEGIN:VCALENDAR
VERSION:2.0
PRODID:-//Sabre//Sabre VObject 4.5.8//EN
CALSCALE:GREGORIAN
BEGIN:VEVENT
UID:criticalmass-one-mannheim-1451743200
DTSTAMP:20260423T234126Z
SUMMARY:Critical Mass Mannheim 02.01.2016
DTSTART;TZID=Europe/Berlin:20160102T150000
DTEND;TZID=Europe/Berlin:20160102T170000
LOCATION:Wasserturm
GEO:49.483952;8.475816
URL;VALUE=URI:https://criticalmass.in/mannheim/2016-01-02
END:VEVENT
END:VCALENDAR
