BEGIN:VCALENDAR
VERSION:2.0
PRODID:-//Sabre//Sabre VObject 4.5.8//EN
CALSCALE:GREGORIAN
BEGIN:VEVENT
UID:criticalmass-one-mannheim-1430571600
DTSTAMP:20260421T221623Z
SUMMARY:Critical Mass Mannheim 02.05.2015
DTSTART;TZID=Europe/Berlin:20150502T150000
DTEND;TZID=Europe/Berlin:20150502T170000
LOCATION:Wasserturm
GEO:49.483952;8.475816
URL;VALUE=URI:https://criticalmass.in/mannheim/2015-05-02
END:VEVENT
END:VCALENDAR
