BEGIN:VCALENDAR
VERSION:2.0
PRODID:-//Sabre//Sabre VObject 4.5.8//EN
CALSCALE:GREGORIAN
BEGIN:VEVENT
UID:criticalmass-one-mannheim-1420293600
DTSTAMP:20260423T142714Z
SUMMARY:Critical Mass Mannheim 03.01.2015
DTSTART;TZID=Europe/Berlin:20150103T150000
DTEND;TZID=Europe/Berlin:20150103T170000
LOCATION:Wasserturm
GEO:49.483952;8.475816
URL;VALUE=URI:https://criticalmass.in/mannheim/2015-01-03
END:VEVENT
END:VCALENDAR
