BEGIN:VCALENDAR
VERSION:2.0
PRODID:-//Sabre//Sabre VObject 4.5.8//EN
CALSCALE:GREGORIAN
BEGIN:VEVENT
UID:criticalmass-one-mannheim-1393682400
DTSTAMP:20260423T123932Z
SUMMARY:Critical Mass Mannheim 01.03.2014
DTSTART;TZID=Europe/Berlin:20140301T150000
DTEND;TZID=Europe/Berlin:20140301T170000
LOCATION:Wasserturm
GEO:49.483952;8.475816
URL;VALUE=URI:https://criticalmass.in/mannheim/2014-03-01
END:VEVENT
END:VCALENDAR
