BEGIN:VCALENDAR
VERSION:2.0
PRODID:-//Sabre//Sabre VObject 4.5.8//EN
CALSCALE:GREGORIAN
BEGIN:VEVENT
UID:criticalmass-one-mannheim-1388844000
DTSTAMP:20260423T015138Z
SUMMARY:Critical Mass Mannheim 04.01.2014
DTSTART;TZID=Europe/Berlin:20140104T150000
DTEND;TZID=Europe/Berlin:20140104T170000
LOCATION:Wasserturm
GEO:49.483952;8.475816
URL;VALUE=URI:https://criticalmass.in/mannheim/2014-01-04
END:VEVENT
END:VCALENDAR
