BEGIN:VCALENDAR
VERSION:2.0
PRODID:-//Sabre//Sabre VObject 4.5.8//EN
CALSCALE:GREGORIAN
BEGIN:VEVENT
UID:criticalmass-one-mainz-1770399000
DTSTAMP:20260424T054846Z
SUMMARY:Critical Mass Mainz 06.02.2026
DTSTART;TZID=Europe/Berlin:20260206T183000
DTEND;TZID=Europe/Berlin:20260206T203000
LOCATION:Fischtorplatz / Rheinufer
GEO:49.999988;8.278670
URL;VALUE=URI:https://criticalmass.in/mainz/2026-02-06
END:VEVENT
END:VCALENDAR
