BEGIN:VCALENDAR
VERSION:2.0
PRODID:-//Sabre//Sabre VObject 4.5.8//EN
CALSCALE:GREGORIAN
BEGIN:VEVENT
UID:criticalmass-one-mainz-1749227400
DTSTAMP:20260422T112129Z
SUMMARY:Critical Mass Mainz 06.06.2025
DTSTART;TZID=Europe/Berlin:20250606T183000
DTEND;TZID=Europe/Berlin:20250606T203000
LOCATION:Fischtorplatz / Rheinufer
GEO:49.999988;8.278670
URL;VALUE=URI:https://criticalmass.in/mainz/2025-06-06
END:VEVENT
END:VCALENDAR
