BEGIN:VCALENDAR
VERSION:2.0
PRODID:-//Sabre//Sabre VObject 4.5.8//EN
CALSCALE:GREGORIAN
BEGIN:VEVENT
UID:criticalmass-one-mainz-1741368600
DTSTAMP:20260422T114014Z
SUMMARY:Critical Mass Mainz 07.03.2025
DTSTART;TZID=Europe/Berlin:20250307T183000
DTEND;TZID=Europe/Berlin:20250307T203000
LOCATION:Fischtorplatz / Rheinufer
GEO:49.999988;8.278670
URL;VALUE=URI:https://criticalmass.in/mainz/2025-03-07
END:VEVENT
END:VCALENDAR
