BEGIN:VCALENDAR
VERSION:2.0
PRODID:-//Sabre//Sabre VObject 4.5.8//EN
CALSCALE:GREGORIAN
BEGIN:VEVENT
UID:criticalmass-one-mainz-1728059400
DTSTAMP:20260423T100148Z
SUMMARY:Critical Mass Mainz 04.10.2024
DTSTART;TZID=Europe/Berlin:20241004T183000
DTEND;TZID=Europe/Berlin:20241004T203000
LOCATION:Fischtorplatz / Rheinufer
GEO:49.999988;8.278670
URL;VALUE=URI:https://criticalmass.in/mainz/2024-10-04
END:VEVENT
END:VCALENDAR
