BEGIN:VCALENDAR
VERSION:2.0
PRODID:-//Sabre//Sabre VObject 4.5.8//EN
CALSCALE:GREGORIAN
BEGIN:VEVENT
UID:criticalmass-one-mainz-1696609800
DTSTAMP:20260422T112126Z
SUMMARY:Critical Mass Mainz 06.10.2023
DTSTART;TZID=Europe/Berlin:20231006T183000
DTEND;TZID=Europe/Berlin:20231006T203000
LOCATION:Fischtorplatz / Rheinufer
GEO:49.999988;8.278670
URL;VALUE=URI:https://criticalmass.in/mainz/2023-10-06
END:VEVENT
END:VCALENDAR
