BEGIN:VCALENDAR
VERSION:2.0
PRODID:-//Sabre//Sabre VObject 4.5.8//EN
CALSCALE:GREGORIAN
BEGIN:VEVENT
UID:criticalmass-one-mainz-1685725200
DTSTAMP:20260423T100213Z
SUMMARY:Critical Mass Mainz Juni 2023
DESCRIPTION:Richtig Fun. Kommt alle rum.
DTSTART;TZID=Europe/Berlin:20230602T190000
DTEND;TZID=Europe/Berlin:20230602T210000
LOCATION:Fischtorplatz
GEO:50.000002;8.278692
URL;VALUE=URI:https://criticalmass.in/mainz/2023-06-02
END:VEVENT
END:VCALENDAR
