BEGIN:VCALENDAR
VERSION:2.0
PRODID:-//Sabre//Sabre VObject 4.5.8//EN
CALSCALE:GREGORIAN
BEGIN:VEVENT
UID:criticalmass-one-mainz-1656694800
DTSTAMP:20260422T225817Z
SUMMARY:Critical Mass Mainz 01.07.2022
DTSTART;TZID=Europe/Berlin:20220701T190000
DTEND;TZID=Europe/Berlin:20220701T210000
LOCATION:Konrad-Adenauer Ufer in Höhe Fischtorplatz
GEO:50.000050;8.278831
URL;VALUE=URI:https://criticalmass.in/mainz/2022-07-01
END:VEVENT
END:VCALENDAR
