BEGIN:VCALENDAR
VERSION:2.0
PRODID:-//Sabre//Sabre VObject 4.5.8//EN
CALSCALE:GREGORIAN
BEGIN:VEVENT
UID:criticalmass-one-mainz-1654275600
DTSTAMP:20260423T112601Z
SUMMARY:Critical Mass Mainz 03.06.2022
DTSTART;TZID=Europe/Berlin:20220603T190000
DTEND;TZID=Europe/Berlin:20220603T210000
LOCATION:Konrad-Adenauer Ufer in Höhe Fischtorplatz
GEO:50.000050;8.278831
URL;VALUE=URI:https://criticalmass.in/mainz/2022-06-03
END:VEVENT
END:VCALENDAR
