BEGIN:VCALENDAR
VERSION:2.0
PRODID:-//Sabre//Sabre VObject 4.5.8//EN
CALSCALE:GREGORIAN
BEGIN:VEVENT
UID:criticalmass-one-mainz-1648832400
DTSTAMP:20260421T232422Z
SUMMARY:Critical Mass Mainz 01.04.2022
DTSTART;TZID=Europe/Berlin:20220401T190000
DTEND;TZID=Europe/Berlin:20220401T210000
LOCATION:Konrad-Adenauer Ufer in Höhe Fischtorplatz
GEO:50.000050;8.278831
URL;VALUE=URI:https://criticalmass.in/mainz/2022-04-01
END:VEVENT
END:VCALENDAR
