BEGIN:VCALENDAR
VERSION:2.0
PRODID:-//Sabre//Sabre VObject 4.5.8//EN
CALSCALE:GREGORIAN
BEGIN:VEVENT
UID:criticalmass-one-mainz-1641574800
DTSTAMP:20260424T012525Z
SUMMARY:Critical Mass Mainz 07.01.2022
DTSTART;TZID=Europe/Berlin:20220107T180000
DTEND;TZID=Europe/Berlin:20220107T200000
LOCATION:Konrad-Adenauer Ufer in Höhe Fischtorplatz
GEO:50.000071;8.278896
URL;VALUE=URI:https://criticalmass.in/mainz/2022-01-07
END:VEVENT
END:VCALENDAR
