BEGIN:VCALENDAR
VERSION:2.0
PRODID:-//Sabre//Sabre VObject 4.5.8//EN
CALSCALE:GREGORIAN
BEGIN:VEVENT
UID:criticalmass-one-mainz-1628424000
DTSTAMP:20260423T020106Z
SUMMARY:Die Fahrrad-Demo zur 27. Sommerschwüle - CSD Mainz 2021
DESCRIPTION:Liebe Community\,\naufgrund der anhaltende Corona-Pandemie möc
 hten wir den CSD Mainz - Sommerschwüle dieses Jahr 2021 etwas kleiner ges
 talten und laden euch am 08.08 um 14:00 Uhr zur Fahrraddemo ein.\n\n14:00 
 Uhr Aufstellung am Fischtorplatz\n14:30 Uhr Losfahren vom Fischtorplatz\nP
 utzt eure Bikes\, macht die Straßen bunt und lasst uns die Vielfalt in di
 e Straßen von Mainz bringen.\n\nDarüber hinaus ist geplant eine kleine E
 rfrischung im Biergarten nach der Fahrraddemo anzubieten.\n\nSobald wir we
 itere Informationen für euch haben\, findet ihr sie bei Facebook \,bei In
 stagram oder auf unserer Internetseite www.csd-mainz.de\n\nEuer CSD Mainz
DTSTART;TZID=Europe/Berlin:20210808T140000
DTEND;TZID=Europe/Berlin:20210808T160000
LOCATION:Konrad-Adenauer Ufer in Höhe Fischtorplatz
GEO:50.000016;8.278670
URL;VALUE=URI:https://criticalmass.in/mainz/2021-08-08
END:VEVENT
END:VCALENDAR
