BEGIN:VCALENDAR
VERSION:2.0
PRODID:-//Sabre//Sabre VObject 4.5.8//EN
CALSCALE:GREGORIAN
BEGIN:VEVENT
UID:criticalmass-one-mainz-1628269200
DTSTAMP:20260423T020425Z
SUMMARY:Critical Mass Mainz 06.08.2021
DTSTART;TZID=Europe/Berlin:20210806T190000
DTEND;TZID=Europe/Berlin:20210806T210000
LOCATION:Konrad-Adenauer Ufer in Höhe Fischtorplatz
GEO:50.000043;8.278670
URL;VALUE=URI:https://criticalmass.in/mainz/2021-08-06
END:VEVENT
END:VCALENDAR
