BEGIN:VCALENDAR
VERSION:2.0
PRODID:-//Sabre//Sabre VObject 4.5.8//EN
CALSCALE:GREGORIAN
BEGIN:VEVENT
UID:criticalmass-one-mainz-1622826000
DTSTAMP:20260423T100012Z
SUMMARY:Critical Mass Mainz 04.06.2021
DESCRIPTION:Da sich die Corona-Situation etwas gebessert hat wird es am 04.
 06.2021 die erste Mass in 2021 geben.\nTreffpunkt ist am Rheinufer in Höh
 e des Fischtorplatzes.\n\nWICHTIG:\n\nDie Mass ist als Demo angemeldet\, e
 s gelten entsprechende Hygienemaßnahmen (Abstand\, Medizinische/FFP2-Mask
 en) und an Beginn+Ende sollten sich bitte keine größeren Grüppchen bild
 en.\n\nEs wird schön euch alle wieder auf der Straße zu sehen - lasst un
 s zeigen\, dass auch 2021 der Radverkehr seinen Platz in der Stadt benöti
 gt.
DTSTART;TZID=Europe/Berlin:20210604T190000
DTEND;TZID=Europe/Berlin:20210604T210000
LOCATION:Konrad-Adenauer Ufer in Höhe Fischtorplatz
GEO:49.999988;8.278531
URL;VALUE=URI:https://criticalmass.in/mainz/2021-06-04
END:VEVENT
END:VCALENDAR
