BEGIN:VCALENDAR
VERSION:2.0
PRODID:-//Sabre//Sabre VObject 4.5.8//EN
CALSCALE:GREGORIAN
BEGIN:VEVENT
UID:criticalmass-one-mainz-1604682000
DTSTAMP:20260422T213335Z
SUMMARY:Critical Mass Mainz 06.11.2020
DTSTART;TZID=Europe/Berlin:20201106T180000
DTEND;TZID=Europe/Berlin:20201106T200000
LOCATION:Gutenbergplatz (vor dem Staatstheater) - kann sich ändern!
GEO:49.999030;8.271418
URL;VALUE=URI:https://criticalmass.in/mainz/2020-11-06
END:VEVENT
END:VCALENDAR
