BEGIN:VCALENDAR
VERSION:2.0
PRODID:-//Sabre//Sabre VObject 4.5.8//EN
CALSCALE:GREGORIAN
BEGIN:VEVENT
UID:criticalmass-one-mainz-1601654400
DTSTAMP:20260422T112706Z
SUMMARY:Critical Mass Mainz 02.10.2020
DTSTART;TZID=Europe/Berlin:20201002T180000
DTEND;TZID=Europe/Berlin:20201002T200000
LOCATION:Fischtorplatz
GEO:49.999030;8.271418
URL;VALUE=URI:https://criticalmass.in/mainz/2020-10-02
END:VEVENT
END:VCALENDAR
